BEGIN:VCALENDAR
VERSION:2.0
PRODID:-//wp-events-plugin.com//7.2.3.1//EN
BEGIN:VEVENT
UID:191@c3centrett.com
DTSTART:20190921T220000Z
DTEND:20190922T000000Z
DTSTAMP:20190918T155138Z
URL:https://c3centrett.com/events/sip-and-paint-with-perspectives-art-and-
 crafts/
SUMMARY:Sip and Paint with Perspectives Art and Crafts
DESCRIPTION:Sip. Paint. Repeat. Join Perspectives Art and Crafts on Saturda
 y 21st September for another fabulous Sip and Paint event.\n\n&nbsp\;\n\n
END:VEVENT
END:VCALENDAR